BEGIN:VCALENDAR
VERSION:2.0
PRODID:-//Prince Patrick Hotel - ECPv4.6.22//NONSGML v1.0//EN
CALSCALE:GREGORIAN
METHOD:PUBLISH
X-WR-CALNAME:Prince Patrick Hotel
X-ORIGINAL-URL:https://princepatrickhotel.com.au
X-WR-CALDESC:Events for Prince Patrick Hotel
BEGIN:VEVENT
DTSTART;TZID=UTC+0:20180908T162000
DTEND;TZID=UTC+0:20180908T162000
DTSTAMP:20210225T051040
CREATED:20180826T114131Z
LAST-MODIFIED:20180829T061046Z
UID:436-1536423600-1536423600@princepatrickhotel.com.au
SUMMARY:2nd Elimination Final Swans V Giants
DESCRIPTION:LIVE from the SCG & enjoyed at the Prince Patrick with our $1 ‘amazing’ wings & cold beers \n
URL:https://princepatrickhotel.com.au/event/2nd-elimination-final-swans-v-giants/
END:VEVENT
END:VCALENDAR