BEGIN:VCALENDAR
VERSION:2.0
PRODID:-//Prince Patrick Hotel - ECPv4.6.22//NONSGML v1.0//EN
CALSCALE:GREGORIAN
METHOD:PUBLISH
X-WR-CALNAME:Prince Patrick Hotel
X-ORIGINAL-URL:https://princepatrickhotel.com.au
X-WR-CALDESC:Events for Prince Patrick Hotel
BEGIN:VEVENT
DTSTART;TZID=UTC+0:20180914T195000
DTEND;TZID=UTC+0:20180914T195000
DTSTAMP:20200226T163136
CREATED:20180826T225632Z
LAST-MODIFIED:20180826T225632Z
UID:442-1536954600-1536954600@princepatrickhotel.com.au
SUMMARY:LIVE: AFL Finals Footy
DESCRIPTION:7.50pm Teams TBC but wings & cold beer will be playing! \n
URL:https://princepatrickhotel.com.au/event/live-afl-finals-footy/
END:VEVENT
END:VCALENDAR