BEGIN:VCALENDAR
VERSION:2.0
PRODID:-//Prince Patrick Hotel - ECPv4.6.22//NONSGML v1.0//EN
CALSCALE:GREGORIAN
METHOD:PUBLISH
X-WR-CALNAME:Prince Patrick Hotel
X-ORIGINAL-URL:https://princepatrickhotel.com.au
X-WR-CALDESC:Events for Prince Patrick Hotel
BEGIN:VEVENT
DTSTART;TZID=UTC+0:20180930T192000
DTEND;TZID=UTC+0:20180930T192000
DTSTAMP:20200226T163240
CREATED:20180826T232419Z
LAST-MODIFIED:20180826T232419Z
UID:452-1538335200-1538335200@princepatrickhotel.com.au
SUMMARY:LIVE: NRL Grand Final
DESCRIPTION:With a 7.20pm kick off come join us for our Steak & Red Wine game day dinner\, the perfect way to finish a weekend of Grand Final Sports \n
URL:https://princepatrickhotel.com.au/event/live-nrl-grand-final/
END:VEVENT
END:VCALENDAR