BEGIN:VCALENDAR
VERSION:2.0
PRODID:-//Prince Patrick Hotel - ECPv4.6.22//NONSGML v1.0//EN
CALSCALE:GREGORIAN
METHOD:PUBLISH
X-WR-CALNAME:Prince Patrick Hotel
X-ORIGINAL-URL:https://princepatrickhotel.com.au
X-WR-CALDESC:Events for Prince Patrick Hotel
BEGIN:VEVENT
DTSTART;VALUE=DATE:20200317
DTEND;VALUE=DATE:20200318
DTSTAMP:20200226T161938
CREATED:20200217T232125Z
LAST-MODIFIED:20200217T232125Z
UID:510-1584403200-1584489599@princepatrickhotel.com.au
SUMMARY:St Patrick's Day
DESCRIPTION:
URL:https://princepatrickhotel.com.au/event/st-patricks-day/
END:VEVENT
END:VCALENDAR